BEGIN:VCALENDAR
VERSION:2.0
PRODID:-//CEFCYS - ECPv6.15.20//NONSGML v1.0//EN
CALSCALE:GREGORIAN
METHOD:PUBLISH
X-WR-CALNAME:CEFCYS
X-ORIGINAL-URL:https://cefcys.fr
X-WR-CALDESC:Évènements pour CEFCYS
REFRESH-INTERVAL;VALUE=DURATION:PT1H
X-Robots-Tag:noindex
X-PUBLISHED-TTL:PT1H
BEGIN:VTIMEZONE
TZID:Europe/Paris
BEGIN:DAYLIGHT
TZOFFSETFROM:+0100
TZOFFSETTO:+0200
TZNAME:CEST
DTSTART:20210328T010000
END:DAYLIGHT
BEGIN:STANDARD
TZOFFSETFROM:+0200
TZOFFSETTO:+0100
TZNAME:CET
DTSTART:20211031T010000
END:STANDARD
BEGIN:DAYLIGHT
TZOFFSETFROM:+0100
TZOFFSETTO:+0200
TZNAME:CEST
DTSTART:20220327T010000
END:DAYLIGHT
BEGIN:STANDARD
TZOFFSETFROM:+0200
TZOFFSETTO:+0100
TZNAME:CET
DTSTART:20221030T010000
END:STANDARD
BEGIN:DAYLIGHT
TZOFFSETFROM:+0100
TZOFFSETTO:+0200
TZNAME:CEST
DTSTART:20230326T010000
END:DAYLIGHT
BEGIN:STANDARD
TZOFFSETFROM:+0200
TZOFFSETTO:+0100
TZNAME:CET
DTSTART:20231029T010000
END:STANDARD
BEGIN:DAYLIGHT
TZOFFSETFROM:+0100
TZOFFSETTO:+0200
TZNAME:CEST
DTSTART:20240331T010000
END:DAYLIGHT
BEGIN:STANDARD
TZOFFSETFROM:+0200
TZOFFSETTO:+0100
TZNAME:CET
DTSTART:20241027T010000
END:STANDARD
END:VTIMEZONE
BEGIN:VEVENT
DTSTART;VALUE=DATE:20220602
DTEND;VALUE=DATE:20230221
DTSTAMP:20260424T085208
CREATED:20230307T224849Z
LAST-MODIFIED:20230307T224849Z
UID:2238-1654128000-1676937599@cefcys.fr
SUMMARY:Women For Futur
DESCRIPTION:Description : Place des femmes dans la société\n\n\nSujet : Médias\, les femmes ne veulent plus jouer les remplaçantes
URL:https://cefcys.fr/evenements/women-for-futur/
LOCATION:Parc des Princes
END:VEVENT
BEGIN:VEVENT
DTSTART;VALUE=DATE:20221020
DTEND;VALUE=DATE:20221021
DTSTAMP:20260424T085208
CREATED:20220927T181533Z
LAST-MODIFIED:20220927T181555Z
UID:1988-1666224000-1666310399@cefcys.fr
SUMMARY:ECWD - le Trophée Européen de la Femme Cyber 2022
DESCRIPTION:« Une journée de conférences\, tables rondes et étude autour de la cybersécurité et des femmes qui se terminera par la soirée de remise des Trophées. » \nissue de l’Article d’Alliancy
URL:https://cefcys.fr/evenements/ecwd-le-trophee-europeen-de-la-femme-cyber/
LOCATION:Campus Cyber\, 5 Rue Bellini\, Puteaux\, Hauts-de-Seine\, 92800\, France
CATEGORIES:Interventions
ORGANIZER;CN="Cefcys":MAILTO:contact@cefcys.com
END:VEVENT
BEGIN:VEVENT
DTSTART;VALUE=DATE:20221027
DTEND;VALUE=DATE:20221028
DTSTAMP:20260424T085208
CREATED:20221016T201453Z
LAST-MODIFIED:20221022T161838Z
UID:2003-1666828800-1666915199@cefcys.fr
SUMMARY:Identity Days
DESCRIPTION:Sujet : Gestion des identités et des accès et la cybersécurité des identités digitales.\n\n\nDescription : Les Identity Days sont une occasion unique d’échanger autour des différentes perspectives et opportunités offertes par l’IAM.
URL:https://cefcys.fr/evenements/identity-days/
CATEGORIES:Interventions
END:VEVENT
BEGIN:VEVENT
DTSTART;VALUE=DATE:20221027
DTEND;VALUE=DATE:20221028
DTSTAMP:20260424T085208
CREATED:20221016T201757Z
LAST-MODIFIED:20221016T201757Z
UID:2011-1666828800-1666915199@cefcys.fr
SUMMARY:Rencontres de la Cybersécurité Auvergne-Rhône-Alpes
DESCRIPTION:Description : Moments de partages\, d’expertises et d’échanges\, les étapes du TDFCyber sont des événements fédérateurs au service du développement des territoires\, qui réunissent experts et non experts\, acteurs nationaux\, européens et locaux\, autour de thématiques de sécurité numérique en adéquation avec les enjeux de développement du tissu économique local\n\n\nIntervenante(s)/Intervenant(s) : Clemence Philippe (Examin)
URL:https://cefcys.fr/evenements/rencontres-de-la-cybersecurite-auvergne-rhone-alpes/
CATEGORIES:Interventions
END:VEVENT
END:VCALENDAR