BEGIN:VCALENDAR
VERSION:2.0
PRODID:-//CEFCYS - ECPv6.15.20//NONSGML v1.0//EN
CALSCALE:GREGORIAN
METHOD:PUBLISH
X-ORIGINAL-URL:https://cefcys.fr
X-WR-CALDESC:Évènements pour CEFCYS
REFRESH-INTERVAL;VALUE=DURATION:PT1H
X-Robots-Tag:noindex
X-PUBLISHED-TTL:PT1H
BEGIN:VTIMEZONE
TZID:Europe/Paris
BEGIN:DAYLIGHT
TZOFFSETFROM:+0100
TZOFFSETTO:+0200
TZNAME:CEST
DTSTART:20220327T010000
END:DAYLIGHT
BEGIN:STANDARD
TZOFFSETFROM:+0200
TZOFFSETTO:+0100
TZNAME:CET
DTSTART:20221030T010000
END:STANDARD
BEGIN:DAYLIGHT
TZOFFSETFROM:+0100
TZOFFSETTO:+0200
TZNAME:CEST
DTSTART:20230326T010000
END:DAYLIGHT
BEGIN:STANDARD
TZOFFSETFROM:+0200
TZOFFSETTO:+0100
TZNAME:CET
DTSTART:20231029T010000
END:STANDARD
BEGIN:DAYLIGHT
TZOFFSETFROM:+0100
TZOFFSETTO:+0200
TZNAME:CEST
DTSTART:20240331T010000
END:DAYLIGHT
BEGIN:STANDARD
TZOFFSETFROM:+0200
TZOFFSETTO:+0100
TZNAME:CET
DTSTART:20241027T010000
END:STANDARD
END:VTIMEZONE
BEGIN:VEVENT
DTSTART;TZID=Europe/Paris:20230309T160000
DTEND;TZID=Europe/Paris:20230309T160000
DTSTAMP:20260424T005330
CREATED:20230316T112724Z
LAST-MODIFIED:20230316T114203Z
UID:2458-1678377600-1678377600@cefcys.fr
SUMMARY:Women & Cyber
DESCRIPTION:Description : Formation & recrutement & conférences\n\n\nSujet : Employabilité des femmes dans la cybersécurité
URL:https://cefcys.fr/evenements/women-cyber/
CATEGORIES:Actualités
END:VEVENT
BEGIN:VEVENT
DTSTART;TZID=Europe/Paris:20230316T190000
DTEND;TZID=Europe/Paris:20230316T200000
DTSTAMP:20260424T005330
CREATED:20230322T213208Z
LAST-MODIFIED:20230322T213543Z
UID:2494-1678993200-1678996800@cefcys.fr
SUMMARY:MasterClass - Cyber défense
DESCRIPTION:Sujet : Cyber Défense – E.D.R : Histoire\, signification et au-délà… un retour d’expérience concert\n\n  \n\nIntervenante(s)/Intervenant(s) : Omessad HAMDI & Sarah LOUKHMI
URL:https://cefcys.fr/evenements/masterclass-cyber-defense/
CATEGORIES:Masterclass
ATTACH;FMTTYPE=image/jpeg:https://cefcys.fr/wp-content/uploads/2021/03/CEFCYS-Masterclass.jpg
END:VEVENT
BEGIN:VEVENT
DTSTART;VALUE=DATE:20230328
DTEND;VALUE=DATE:20230329
DTSTAMP:20260424T005330
CREATED:20230316T114243Z
LAST-MODIFIED:20230316T114547Z
UID:2474-1679961600-1680047999@cefcys.fr
SUMMARY:Table ronde : La cyber comment faire ?
DESCRIPTION:Intervenante(s)/Intervenant(s) : Nacira Guerroudji-Salvan
URL:https://cefcys.fr/evenements/table-ronde-la-cyber-comment-faire/
LOCATION:Campus Cyber\, 5 Rue Bellini\, Puteaux\, Hauts-de-Seine\, 92800\, France
CATEGORIES:Interventions
ATTACH;FMTTYPE=image/png:https://cefcys.fr/wp-content/uploads/2023/03/campus-cyber.png
END:VEVENT
END:VCALENDAR