BEGIN:VCALENDAR
VERSION:2.0
PRODID:-//CEFCYS - ECPv6.15.20//NONSGML v1.0//EN
CALSCALE:GREGORIAN
METHOD:PUBLISH
X-ORIGINAL-URL:https://cefcys.fr
X-WR-CALDESC:Évènements pour CEFCYS
REFRESH-INTERVAL;VALUE=DURATION:PT1H
X-Robots-Tag:noindex
X-PUBLISHED-TTL:PT1H
BEGIN:VTIMEZONE
TZID:Europe/Paris
BEGIN:DAYLIGHT
TZOFFSETFROM:+0100
TZOFFSETTO:+0200
TZNAME:CEST
DTSTART:20220327T010000
END:DAYLIGHT
BEGIN:STANDARD
TZOFFSETFROM:+0200
TZOFFSETTO:+0100
TZNAME:CET
DTSTART:20221030T010000
END:STANDARD
BEGIN:DAYLIGHT
TZOFFSETFROM:+0100
TZOFFSETTO:+0200
TZNAME:CEST
DTSTART:20230326T010000
END:DAYLIGHT
BEGIN:STANDARD
TZOFFSETFROM:+0200
TZOFFSETTO:+0100
TZNAME:CET
DTSTART:20231029T010000
END:STANDARD
BEGIN:DAYLIGHT
TZOFFSETFROM:+0100
TZOFFSETTO:+0200
TZNAME:CEST
DTSTART:20240331T010000
END:DAYLIGHT
BEGIN:STANDARD
TZOFFSETFROM:+0200
TZOFFSETTO:+0100
TZNAME:CET
DTSTART:20241027T010000
END:STANDARD
END:VTIMEZONE
BEGIN:VEVENT
DTSTART;VALUE=DATE:20230606
DTEND;VALUE=DATE:20230607
DTSTAMP:20260423T194932
CREATED:20230515T105435Z
LAST-MODIFIED:20230515T110009Z
UID:2703-1686009600-1686095999@cefcys.fr
SUMMARY:2eme rencontre de la cybersécurité
DESCRIPTION:
URL:https://cefcys.fr/evenements/2eme-rencontre-de-la-cybersecurite/
LOCATION:Stade de France\, 23 avenue Jules Rimet\, Saint-Denis\, 93200
CATEGORIES:Interventions
ATTACH;FMTTYPE=image/png:https://cefcys.fr/wp-content/uploads/2023/05/logo-plaine-commune.png
END:VEVENT
BEGIN:VEVENT
DTSTART;TZID=Europe/Paris:20230608T163000
DTEND;TZID=Europe/Paris:20230608T180000
DTSTAMP:20260423T194932
CREATED:20230530T104826Z
LAST-MODIFIED:20230530T104826Z
UID:2722-1686241800-1686247200@cefcys.fr
SUMMARY:Masterclass - Analyse de risque
DESCRIPTION:
URL:https://cefcys.fr/evenements/masterclass-analyse-de-risque/
CATEGORIES:Masterclass
ATTACH;FMTTYPE=image/jpeg:https://cefcys.fr/wp-content/uploads/2021/03/CEFCYS-Masterclass.jpg
END:VEVENT
BEGIN:VEVENT
DTSTART;VALUE=DATE:20230613
DTEND;VALUE=DATE:20230614
DTSTAMP:20260423T194932
CREATED:20230515T111131Z
LAST-MODIFIED:20230515T111131Z
UID:2708-1686614400-1686700799@cefcys.fr
SUMMARY:Les rencontres Cybersécurité d'Occitanie
DESCRIPTION:
URL:https://cefcys.fr/evenements/les-rencontres-cybersecurite-doccitanie/
LOCATION:Toulouse
CATEGORIES:Interventions
ATTACH;FMTTYPE=image/png:https://cefcys.fr/wp-content/uploads/2023/05/logo-cyber-occitanie.png
END:VEVENT
BEGIN:VEVENT
DTSTART;TZID=Europe/Paris:20230615T183000
DTEND;TZID=Europe/Paris:20230615T193000
DTSTAMP:20260423T194932
CREATED:20230615T093314Z
LAST-MODIFIED:20230615T093401Z
UID:2731-1686853800-1686857400@cefcys.fr
SUMMARY:Webinar - Sopra Steria
DESCRIPTION:Sujet : Comment objectiver le processus de décision sur les orientations cyber ?
URL:https://cefcys.fr/evenements/webinar-sopra-steria/
CATEGORIES:Webinar
ATTACH;FMTTYPE=image/jpeg:https://cefcys.fr/wp-content/uploads/2021/03/CEFCYS-Webinar.jpg
END:VEVENT
BEGIN:VEVENT
DTSTART;TZID=Europe/Paris:20230622T190000
DTEND;TZID=Europe/Paris:20230622T203000
DTSTAMP:20260423T194932
CREATED:20230615T093134Z
LAST-MODIFIED:20230615T093134Z
UID:2729-1687460400-1687465800@cefcys.fr
SUMMARY:Masterclass - Comment objectiver le processus de décision sur les orientations cyber ?
DESCRIPTION:
URL:https://cefcys.fr/evenements/masterclass-comment-objectiver-le-processus-de-decision-sur-les-orientations-cyber/
CATEGORIES:Masterclass
ATTACH;FMTTYPE=image/jpeg:https://cefcys.fr/wp-content/uploads/2021/03/CEFCYS-Masterclass.jpg
END:VEVENT
BEGIN:VEVENT
DTSTART;VALUE=DATE:20230630
DTEND;VALUE=DATE:20230703
DTSTAMP:20260423T194932
CREATED:20230316T113005Z
LAST-MODIFIED:20230316T113149Z
UID:2462-1688083200-1688342399@cefcys.fr
SUMMARY:LeHack
DESCRIPTION:
URL:https://cefcys.fr/evenements/lehack/
CATEGORIES:Interventions
ATTACH;FMTTYPE=image/png:https://cefcys.fr/wp-content/uploads/2023/03/lehack2022.png
END:VEVENT
END:VCALENDAR