BEGIN:VCALENDAR
VERSION:2.0
PRODID:-//CEFCYS - ECPv6.15.20//NONSGML v1.0//EN
CALSCALE:GREGORIAN
METHOD:PUBLISH
X-WR-CALNAME:CEFCYS
X-ORIGINAL-URL:https://cefcys.fr
X-WR-CALDESC:Évènements pour CEFCYS
REFRESH-INTERVAL;VALUE=DURATION:PT1H
X-Robots-Tag:noindex
X-PUBLISHED-TTL:PT1H
BEGIN:VTIMEZONE
TZID:Europe/Paris
BEGIN:DAYLIGHT
TZOFFSETFROM:+0100
TZOFFSETTO:+0200
TZNAME:CEST
DTSTART:20220327T010000
END:DAYLIGHT
BEGIN:STANDARD
TZOFFSETFROM:+0200
TZOFFSETTO:+0100
TZNAME:CET
DTSTART:20221030T010000
END:STANDARD
BEGIN:DAYLIGHT
TZOFFSETFROM:+0100
TZOFFSETTO:+0200
TZNAME:CEST
DTSTART:20230326T010000
END:DAYLIGHT
BEGIN:STANDARD
TZOFFSETFROM:+0200
TZOFFSETTO:+0100
TZNAME:CET
DTSTART:20231029T010000
END:STANDARD
BEGIN:DAYLIGHT
TZOFFSETFROM:+0100
TZOFFSETTO:+0200
TZNAME:CEST
DTSTART:20240331T010000
END:DAYLIGHT
BEGIN:STANDARD
TZOFFSETFROM:+0200
TZOFFSETTO:+0100
TZNAME:CET
DTSTART:20241027T010000
END:STANDARD
END:VTIMEZONE
BEGIN:VEVENT
DTSTART;VALUE=DATE:20230630
DTEND;VALUE=DATE:20230703
DTSTAMP:20260423T182158
CREATED:20230316T113005Z
LAST-MODIFIED:20230316T113149Z
UID:2462-1688083200-1688342399@cefcys.fr
SUMMARY:LeHack
DESCRIPTION:
URL:https://cefcys.fr/evenements/lehack/
CATEGORIES:Interventions
ATTACH;FMTTYPE=image/png:https://cefcys.fr/wp-content/uploads/2023/03/lehack2022.png
END:VEVENT
BEGIN:VEVENT
DTSTART;VALUE=DATE:20230704
DTEND;VALUE=DATE:20230705
DTSTAMP:20260423T182158
CREATED:20230701T100052Z
LAST-MODIFIED:20230701T100052Z
UID:2735-1688428800-1688515199@cefcys.fr
SUMMARY:Table ronde - Sensibilisation et formation des collaborateurs aux risques cyber de l'ia
DESCRIPTION:
URL:https://cefcys.fr/evenements/table-ronde-sensibilisation-et-formation-des-collaborateurs-aux-risques-cyber-de-lia/
CATEGORIES:Interventions
ATTACH;FMTTYPE=image/jpeg:https://cefcys.fr/wp-content/uploads/2021/03/CEFCYS-Mission.jpg
END:VEVENT
BEGIN:VEVENT
DTSTART;VALUE=DATE:20230714
DTEND;VALUE=DATE:20230715
DTSTAMP:20260423T182158
CREATED:20230712T122444Z
LAST-MODIFIED:20230712T122733Z
UID:2741-1689292800-1689379199@cefcys.fr
SUMMARY:Sortie du livre du Cefcys
DESCRIPTION:Second volume du dernier livre : \n« Je ne porte pas de sweat à capuche\, pourtant je travaille dans la cybersécurité: Guide des métiers\, formations et opportunités dans la cybersécurité »
URL:https://cefcys.fr/evenements/sortie-du-livre-du-cefcys/
CATEGORIES:Actualités
ATTACH;FMTTYPE=image/jpeg:https://cefcys.fr/wp-content/uploads/2021/03/CEFCYS-Livre.jpg
END:VEVENT
END:VCALENDAR