BEGIN:VCALENDAR
VERSION:2.0
PRODID:-//CEFCYS - ECPv6.15.20//NONSGML v1.0//EN
CALSCALE:GREGORIAN
METHOD:PUBLISH
X-ORIGINAL-URL:https://cefcys.fr
X-WR-CALDESC:Évènements pour CEFCYS
REFRESH-INTERVAL;VALUE=DURATION:PT1H
X-Robots-Tag:noindex
X-PUBLISHED-TTL:PT1H
BEGIN:VTIMEZONE
TZID:Europe/Paris
BEGIN:DAYLIGHT
TZOFFSETFROM:+0100
TZOFFSETTO:+0200
TZNAME:CEST
DTSTART:20220327T010000
END:DAYLIGHT
BEGIN:STANDARD
TZOFFSETFROM:+0200
TZOFFSETTO:+0100
TZNAME:CET
DTSTART:20221030T010000
END:STANDARD
BEGIN:DAYLIGHT
TZOFFSETFROM:+0100
TZOFFSETTO:+0200
TZNAME:CEST
DTSTART:20230326T010000
END:DAYLIGHT
BEGIN:STANDARD
TZOFFSETFROM:+0200
TZOFFSETTO:+0100
TZNAME:CET
DTSTART:20231029T010000
END:STANDARD
BEGIN:DAYLIGHT
TZOFFSETFROM:+0100
TZOFFSETTO:+0200
TZNAME:CEST
DTSTART:20240331T010000
END:DAYLIGHT
BEGIN:STANDARD
TZOFFSETFROM:+0200
TZOFFSETTO:+0100
TZNAME:CET
DTSTART:20241027T010000
END:STANDARD
END:VTIMEZONE
BEGIN:VEVENT
DTSTART;TZID=Europe/Paris:20230905T140000
DTEND;TZID=Europe/Paris:20230905T203000
DTSTAMP:20260423T150134
CREATED:20230828T154053Z
LAST-MODIFIED:20230828T154053Z
UID:2822-1693922400-1693945800@cefcys.fr
SUMMARY:Forum Cyber Résilience
DESCRIPTION:
URL:https://cefcys.fr/evenements/forum-cyber-resilience/
LOCATION:Campus Cyber\, 5 Rue Bellini\, Puteaux\, Hauts-de-Seine\, 92800\, France
CATEGORIES:Interventions
ATTACH;FMTTYPE=image/png:https://cefcys.fr/wp-content/uploads/2023/03/campus-cyber.png
END:VEVENT
BEGIN:VEVENT
DTSTART;VALUE=DATE:20230918
DTEND;VALUE=DATE:20230919
DTSTAMP:20260423T150134
CREATED:20230808T134552Z
LAST-MODIFIED:20230808T134811Z
UID:2801-1694995200-1695081599@cefcys.fr
SUMMARY:Sortie officielle du second tome de l'ouvrage du CEFCYS
DESCRIPTION:
URL:https://cefcys.fr/evenements/la-sortie-officielle-du-second-tome-de-notre-livre/
CATEGORIES:Actualités
ATTACH;FMTTYPE=image/jpeg:https://cefcys.fr/wp-content/uploads/2023/08/book-cefcys-2.jpeg
ORGANIZER;CN="Cefcys":MAILTO:contact@cefcys.com
END:VEVENT
BEGIN:VEVENT
DTSTART;VALUE=DATE:20230919
DTEND;VALUE=DATE:20230920
DTSTAMP:20260423T150134
CREATED:20230712T123241Z
LAST-MODIFIED:20230712T123241Z
UID:2747-1695081600-1695167999@cefcys.fr
SUMMARY:HEXATRUST Universités d'été
DESCRIPTION:
URL:https://cefcys.fr/evenements/hexatrust-universites-dete/
CATEGORIES:Interventions
ATTACH;FMTTYPE=image/jpeg:https://cefcys.fr/wp-content/uploads/2023/07/logo-hexatrust-univ.jpeg
END:VEVENT
BEGIN:VEVENT
DTSTART;TZID=Europe/Paris:20230921T193000
DTEND;TZID=Europe/Paris:20230921T203000
DTSTAMP:20260423T150134
CREATED:20230908T115353Z
LAST-MODIFIED:20230908T115353Z
UID:2828-1695324600-1695328200@cefcys.fr
SUMMARY:Masterclass CONSCIO
DESCRIPTION:
URL:https://cefcys.fr/evenements/masterclass-conscio/
CATEGORIES:Masterclass
ATTACH;FMTTYPE=image/jpeg:https://cefcys.fr/wp-content/uploads/2021/03/CEFCYS-Masterclass.jpg
END:VEVENT
BEGIN:VEVENT
DTSTART;VALUE=DATE:20230922
DTEND;VALUE=DATE:20230930
DTSTAMP:20260423T150134
CREATED:20230712T123646Z
LAST-MODIFIED:20230712T124028Z
UID:2750-1695340800-1696031999@cefcys.fr
SUMMARY:La Mêlée Numérique
DESCRIPTION:
URL:https://cefcys.fr/evenements/la-melee-numerique/
CATEGORIES:Interventions
ATTACH;FMTTYPE=image/jpeg:https://cefcys.fr/wp-content/uploads/2023/07/logo-melee-num.jpeg
END:VEVENT
END:VCALENDAR