BEGIN:VCALENDAR
VERSION:2.0
PRODID:-//CEFCYS - ECPv6.15.20//NONSGML v1.0//EN
CALSCALE:GREGORIAN
METHOD:PUBLISH
X-WR-CALNAME:CEFCYS
X-ORIGINAL-URL:https://cefcys.fr
X-WR-CALDESC:Évènements pour CEFCYS
REFRESH-INTERVAL;VALUE=DURATION:PT1H
X-Robots-Tag:noindex
X-PUBLISHED-TTL:PT1H
BEGIN:VTIMEZONE
TZID:Europe/Paris
BEGIN:DAYLIGHT
TZOFFSETFROM:+0100
TZOFFSETTO:+0200
TZNAME:CEST
DTSTART:20220327T010000
END:DAYLIGHT
BEGIN:STANDARD
TZOFFSETFROM:+0200
TZOFFSETTO:+0100
TZNAME:CET
DTSTART:20221030T010000
END:STANDARD
BEGIN:DAYLIGHT
TZOFFSETFROM:+0100
TZOFFSETTO:+0200
TZNAME:CEST
DTSTART:20230326T010000
END:DAYLIGHT
BEGIN:STANDARD
TZOFFSETFROM:+0200
TZOFFSETTO:+0100
TZNAME:CET
DTSTART:20231029T010000
END:STANDARD
BEGIN:DAYLIGHT
TZOFFSETFROM:+0100
TZOFFSETTO:+0200
TZNAME:CEST
DTSTART:20240331T010000
END:DAYLIGHT
BEGIN:STANDARD
TZOFFSETFROM:+0200
TZOFFSETTO:+0100
TZNAME:CET
DTSTART:20241027T010000
END:STANDARD
END:VTIMEZONE
BEGIN:VEVENT
DTSTART;TZID=Europe/Paris:20231109T080000
DTEND;TZID=Europe/Paris:20231110T220000
DTSTAMP:20260423T110313
CREATED:20231027T195423Z
LAST-MODIFIED:20231027T225706Z
UID:2902-1699516800-1699653600@cefcys.fr
SUMMARY:CSAW2023
DESCRIPTION:Grenoble INP – Esisar\, UGA organise depuis 7 ans les finales européennes de CSAW au sein de son école. La prochaine édition aura lieu du 9 au 10 novembre 2023
URL:https://cefcys.fr/evenements/csaw2023/
CATEGORIES:Actualités
ATTACH;FMTTYPE=image/png:https://cefcys.fr/wp-content/uploads/2023/10/CSAW-2023-logo.png
END:VEVENT
BEGIN:VEVENT
DTSTART;TZID=Europe/Paris:20231109T130000
DTEND;TZID=Europe/Paris:20231109T200000
DTSTAMP:20260423T110313
CREATED:20231027T185957Z
LAST-MODIFIED:20231027T193519Z
UID:2898-1699534800-1699560000@cefcys.fr
SUMMARY:Forum cybersécurité
DESCRIPTION:
URL:https://cefcys.fr/evenements/forum-cybersecurite/
LOCATION:Espace Charenton\, 327 rue de Charenton\, Paris\, 75012\, France
CATEGORIES:Interventions
ATTACH;FMTTYPE=image/png:https://cefcys.fr/wp-content/uploads/2023/10/forum_cybersecurite-1024x487-1.png
END:VEVENT
BEGIN:VEVENT
DTSTART;VALUE=DATE:20231115
DTEND;VALUE=DATE:20231117
DTSTAMP:20260423T110313
CREATED:20231027T231556Z
LAST-MODIFIED:20231202T222631Z
UID:2914-1700006400-1700179199@cefcys.fr
SUMMARY:Cloud Expo Europe
DESCRIPTION:
URL:https://cefcys.fr/evenements/cloud-expo-europe/
LOCATION:Paris Porte de Versailles
CATEGORIES:Actualités
ATTACH;FMTTYPE=image/jpeg:https://cefcys.fr/wp-content/uploads/2023/10/CEE-3344281594.jpg
END:VEVENT
BEGIN:VEVENT
DTSTART;VALUE=DATE:20231121
DTEND;VALUE=DATE:20231124
DTSTAMP:20260423T110313
CREATED:20231102T121741Z
LAST-MODIFIED:20231102T123157Z
UID:2918-1700524800-1700783999@cefcys.fr
SUMMARY:ECW 2023 Rennes
DESCRIPTION:
URL:https://cefcys.fr/evenements/ecw-2023-rennes/
LOCATION:Couvent des Jacobins\, Rennes
CATEGORIES:Actualités
ATTACH;FMTTYPE=image/jpeg:https://cefcys.fr/wp-content/uploads/2022/11/ECW.jpg
END:VEVENT
END:VCALENDAR