BEGIN:VCALENDAR
VERSION:2.0
PRODID:-//CEFCYS - ECPv6.15.20//NONSGML v1.0//EN
CALSCALE:GREGORIAN
METHOD:PUBLISH
X-WR-CALNAME:CEFCYS
X-ORIGINAL-URL:https://cefcys.fr
X-WR-CALDESC:Évènements pour CEFCYS
REFRESH-INTERVAL;VALUE=DURATION:PT1H
X-Robots-Tag:noindex
X-PUBLISHED-TTL:PT1H
BEGIN:VTIMEZONE
TZID:Europe/Paris
BEGIN:DAYLIGHT
TZOFFSETFROM:+0100
TZOFFSETTO:+0200
TZNAME:CEST
DTSTART:20230326T010000
END:DAYLIGHT
BEGIN:STANDARD
TZOFFSETFROM:+0200
TZOFFSETTO:+0100
TZNAME:CET
DTSTART:20231029T010000
END:STANDARD
BEGIN:DAYLIGHT
TZOFFSETFROM:+0100
TZOFFSETTO:+0200
TZNAME:CEST
DTSTART:20240331T010000
END:DAYLIGHT
BEGIN:STANDARD
TZOFFSETFROM:+0200
TZOFFSETTO:+0100
TZNAME:CET
DTSTART:20241027T010000
END:STANDARD
BEGIN:DAYLIGHT
TZOFFSETFROM:+0100
TZOFFSETTO:+0200
TZNAME:CEST
DTSTART:20250330T010000
END:DAYLIGHT
BEGIN:STANDARD
TZOFFSETFROM:+0200
TZOFFSETTO:+0100
TZNAME:CET
DTSTART:20251026T010000
END:STANDARD
END:VTIMEZONE
BEGIN:VEVENT
DTSTART;TZID=Europe/Paris:20240308T120000
DTEND;TZID=Europe/Paris:20240308T123000
DTSTAMP:20260423T015824
CREATED:20240206T225734Z
LAST-MODIFIED:20240208T203327Z
UID:3116-1709899200-1709901000@cefcys.fr
SUMMARY:Cyber Zone avec Feel Agile (YouTube)
DESCRIPTION:
URL:https://cefcys.fr/evenements/cyber-zone-avec-feel-agile/
LOCATION:En ligne
CATEGORIES:Webinar
ATTACH;FMTTYPE=image/jpeg:https://cefcys.fr/wp-content/uploads/2021/03/CEFCYS-Webinar.jpg
END:VEVENT
BEGIN:VEVENT
DTSTART;TZID=Europe/Paris:20240312T080000
DTEND;TZID=Europe/Paris:20240312T190000
DTSTAMP:20260423T015824
CREATED:20240206T231807Z
LAST-MODIFIED:20240206T232648Z
UID:3122-1710230400-1710270000@cefcys.fr
SUMMARY:Woman & Cyber
DESCRIPTION:
URL:https://cefcys.fr/evenements/woman-cyber/
LOCATION:Galerie Joseph\, 5 Rue Saint Merri\, Paris\, 75004\, France
CATEGORIES:Job datings
ATTACH;FMTTYPE=image/png:https://cefcys.fr/wp-content/uploads/2024/02/Capture-decran-2024-02-07-a-00.22.02.png
END:VEVENT
BEGIN:VEVENT
DTSTART;TZID=Europe/Paris:20240319T090000
DTEND;TZID=Europe/Paris:20240319T180000
DTSTAMP:20260423T015824
CREATED:20240206T234325Z
LAST-MODIFIED:20240227T082347Z
UID:3129-1710838800-1710871200@cefcys.fr
SUMMARY:CyberEco IDF
DESCRIPTION:
URL:https://cefcys.fr/evenements/cybereco/
LOCATION:Campus Cyber\, 5 Rue Bellini\, Puteaux\, Hauts-de-Seine\, 92800\, France
ATTACH;FMTTYPE=image/png:https://cefcys.fr/wp-content/uploads/2024/02/Capture-decran-2024-02-07-a-00.51.20.png
END:VEVENT
BEGIN:VEVENT
DTSTART;TZID=Europe/Paris:20240320T090000
DTEND;TZID=Europe/Paris:20240320T180000
DTSTAMP:20260423T015824
CREATED:20240227T082032Z
LAST-MODIFIED:20240227T091610Z
UID:3198-1710925200-1710957600@cefcys.fr
SUMMARY:CyberCamp Santé #4
DESCRIPTION:Le rendez-vous des acteurs de la cybersécurité à l’hôpital
URL:https://cefcys.fr/evenements/cybercamp-sante-4/
LOCATION:Bordeaux\, 134 Quai de Bacalan\, Bordeaux\, 33300\, France
ATTACH;FMTTYPE=image/png:https://cefcys.fr/wp-content/uploads/2024/02/CyberCamp-Sante2-e1709025308479.png
END:VEVENT
BEGIN:VEVENT
DTSTART;TZID=Europe/Paris:20240321T080000
DTEND;TZID=Europe/Paris:20240322T190000
DTSTAMP:20260423T015824
CREATED:20240207T000455Z
LAST-MODIFIED:20240227T092308Z
UID:3139-1711008000-1711134000@cefcys.fr
SUMMARY:AMUSEC
DESCRIPTION:Forum d’Aix-Marseille Université de la Cybersécurité\nL’inscription est gratuite mais obligatoire.
URL:https://cefcys.fr/evenements/amusec-2/
LOCATION:Marseille
CATEGORIES:Interventions
ATTACH;FMTTYPE=image/png:https://cefcys.fr/wp-content/uploads/2024/02/Amusec2.png
END:VEVENT
BEGIN:VEVENT
DTSTART;TZID=Europe/Paris:20240326T080000
DTEND;TZID=Europe/Paris:20240328T190000
DTSTAMP:20260423T015824
CREATED:20240315T175155Z
LAST-MODIFIED:20240315T175155Z
UID:3263-1711440000-1711652400@cefcys.fr
SUMMARY:Forum Incyber Europe (FIC) 2024
DESCRIPTION:
URL:https://cefcys.fr/evenements/forum-incyber-europe-fic-2024/
LOCATION:Lille\, France
CATEGORIES:Actualités
ATTACH;FMTTYPE=image/jpeg:https://cefcys.fr/wp-content/uploads/2024/03/FIC-2024.jpeg
END:VEVENT
END:VCALENDAR