BEGIN:VCALENDAR
VERSION:2.0
PRODID:-//CEFCYS - ECPv6.15.20//NONSGML v1.0//EN
CALSCALE:GREGORIAN
METHOD:PUBLISH
X-WR-CALNAME:CEFCYS
X-ORIGINAL-URL:https://cefcys.fr
X-WR-CALDESC:Évènements pour CEFCYS
REFRESH-INTERVAL;VALUE=DURATION:PT1H
X-Robots-Tag:noindex
X-PUBLISHED-TTL:PT1H
BEGIN:VTIMEZONE
TZID:Europe/Paris
BEGIN:DAYLIGHT
TZOFFSETFROM:+0100
TZOFFSETTO:+0200
TZNAME:CEST
DTSTART:20230326T010000
END:DAYLIGHT
BEGIN:STANDARD
TZOFFSETFROM:+0200
TZOFFSETTO:+0100
TZNAME:CET
DTSTART:20231029T010000
END:STANDARD
BEGIN:DAYLIGHT
TZOFFSETFROM:+0100
TZOFFSETTO:+0200
TZNAME:CEST
DTSTART:20240331T010000
END:DAYLIGHT
BEGIN:STANDARD
TZOFFSETFROM:+0200
TZOFFSETTO:+0100
TZNAME:CET
DTSTART:20241027T010000
END:STANDARD
BEGIN:DAYLIGHT
TZOFFSETFROM:+0100
TZOFFSETTO:+0200
TZNAME:CEST
DTSTART:20250330T010000
END:DAYLIGHT
BEGIN:STANDARD
TZOFFSETFROM:+0200
TZOFFSETTO:+0100
TZNAME:CET
DTSTART:20251026T010000
END:STANDARD
END:VTIMEZONE
BEGIN:VEVENT
DTSTART;TZID=Europe/Paris:20240404T140000
DTEND;TZID=Europe/Paris:20240404T220000
DTSTAMP:20260423T000139
CREATED:20240207T002724Z
LAST-MODIFIED:20240214T193917Z
UID:3147-1712239200-1712268000@cefcys.fr
SUMMARY:BSides Paris 2024
DESCRIPTION:
URL:https://cefcys.fr/evenements/bsides-paris-2024/
LOCATION:Paris
CATEGORIES:Interventions
ATTACH;FMTTYPE=image/png:https://cefcys.fr/wp-content/uploads/2024/02/Capture-decran-2024-02-07-a-01.35.42.png
END:VEVENT
BEGIN:VEVENT
DTSTART;TZID=Europe/Paris:20240416T133000
DTEND;TZID=Europe/Paris:20240416T153000
DTSTAMP:20260423T000139
CREATED:20240411T143359Z
LAST-MODIFIED:20240411T143359Z
UID:3356-1713274200-1713281400@cefcys.fr
SUMMARY:CONSCIO Technologies: "Sensiwave.ai : IA générative au service de vos utilisateurs\, sorte de RSSI de premier niveau."
DESCRIPTION:Webinaire présenté par : Michel GERARD – Président et fondateur de Conscio Technologies.
URL:https://cefcys.fr/evenements/conscio-technologies-sensiwave-ai-ia-generative-au-service-de-vos-utilisateurs-sorte-de-rssi-de-premier-niveau/
CATEGORIES:Webinar
ATTACH;FMTTYPE=image/jpeg:https://cefcys.fr/wp-content/uploads/2021/03/CEFCYS-Webinar.jpg
END:VEVENT
BEGIN:VEVENT
DTSTART;TZID=Europe/Paris:20240417T080000
DTEND;TZID=Europe/Paris:20240417T170000
DTSTAMP:20260423T000139
CREATED:20240527T145550Z
LAST-MODIFIED:20240527T145550Z
UID:3442-1713340800-1713373200@cefcys.fr
SUMMARY:Cyberstory n°2 Lise Delage (Splunk)
DESCRIPTION:
URL:https://cefcys.fr/evenements/cyberstory-n2-lise-delage-splunk/
CATEGORIES:podcast
ATTACH;FMTTYPE=image/jpeg:https://cefcys.fr/wp-content/uploads/2024/01/podcast-du-cefcys.jpeg
END:VEVENT
BEGIN:VEVENT
DTSTART;TZID=Europe/Paris:20240418T183000
DTEND;TZID=Europe/Paris:20240418T203000
DTSTAMP:20260423T000139
CREATED:20240411T144015Z
LAST-MODIFIED:20240411T144015Z
UID:3359-1713465000-1713472200@cefcys.fr
SUMMARY:AFNOR Certification : Comment renforcer la cybersécurité au sein de l'industrie automobile ?
DESCRIPTION:Ce webinaire sera présenté par : \n\nMarie Christine MORETTI – CEO Sésame Expertises\nThomas Sanjullian – Chef de projet cybersécurité – AFNOR Certification
URL:https://cefcys.fr/evenements/afnor-certification-comment-renforcer-la-cybersecurite-au-sein-de-lindustrie-automobile/
CATEGORIES:Webinar
ATTACH;FMTTYPE=image/jpeg:https://cefcys.fr/wp-content/uploads/2021/03/CEFCYS-Webinar.jpg
END:VEVENT
BEGIN:VEVENT
DTSTART;TZID=Europe/Paris:20240423T090000
DTEND;TZID=Europe/Paris:20240424T183000
DTSTAMP:20260423T000139
CREATED:20240214T192515Z
LAST-MODIFIED:20240214T193117Z
UID:3169-1713862800-1713983400@cefcys.fr
SUMMARY:Salon S3C
DESCRIPTION:
URL:https://cefcys.fr/evenements/salon-s3c/
LOCATION:Palais des Congrès\, La Grande Motte\, 192 avenue Jean Béne\, La Grande-Motte\, 34280\, France
CATEGORIES:Actualités
ATTACH;FMTTYPE=image/jpeg:https://cefcys.fr/wp-content/uploads/2024/02/S3C.jpg
END:VEVENT
BEGIN:VEVENT
DTSTART;TZID=Europe/Paris:20240423T173000
DTEND;TZID=Europe/Paris:20240423T193000
DTSTAMP:20260423T000139
CREATED:20240411T145447Z
LAST-MODIFIED:20240411T145447Z
UID:3362-1713893400-1713900600@cefcys.fr
SUMMARY:Red Team : Nouveau pilier des stratégies cyber de demain ?
DESCRIPTION:Ce webinaire vous sera présenté par : \n\nFiona Castelli – Directrice Cyber Risk Deloitte Cyber Strategy & Data privacy\nThibault Roy – Senior Manager Cyber Risk Deloitte Offensive Security\nAnta-Kader KONFROU – Manager Cyber Risk Deloitte Offensive Security
URL:https://cefcys.fr/evenements/red-team-nouveau-pilier-des-strategies-cyber-de-demain/
CATEGORIES:Webinar
ATTACH;FMTTYPE=image/jpeg:https://cefcys.fr/wp-content/uploads/2021/03/CEFCYS-Webinar.jpg
END:VEVENT
END:VCALENDAR