BEGIN:VCALENDAR
VERSION:2.0
PRODID:-//CEFCYS - ECPv6.15.20//NONSGML v1.0//EN
CALSCALE:GREGORIAN
METHOD:PUBLISH
X-ORIGINAL-URL:https://cefcys.fr
X-WR-CALDESC:Évènements pour CEFCYS
REFRESH-INTERVAL;VALUE=DURATION:PT1H
X-Robots-Tag:noindex
X-PUBLISHED-TTL:PT1H
BEGIN:VTIMEZONE
TZID:Europe/Paris
BEGIN:DAYLIGHT
TZOFFSETFROM:+0100
TZOFFSETTO:+0200
TZNAME:CEST
DTSTART:20230326T010000
END:DAYLIGHT
BEGIN:STANDARD
TZOFFSETFROM:+0200
TZOFFSETTO:+0100
TZNAME:CET
DTSTART:20231029T010000
END:STANDARD
BEGIN:DAYLIGHT
TZOFFSETFROM:+0100
TZOFFSETTO:+0200
TZNAME:CEST
DTSTART:20240331T010000
END:DAYLIGHT
BEGIN:STANDARD
TZOFFSETFROM:+0200
TZOFFSETTO:+0100
TZNAME:CET
DTSTART:20241027T010000
END:STANDARD
BEGIN:DAYLIGHT
TZOFFSETFROM:+0100
TZOFFSETTO:+0200
TZNAME:CEST
DTSTART:20250330T010000
END:DAYLIGHT
BEGIN:STANDARD
TZOFFSETFROM:+0200
TZOFFSETTO:+0100
TZNAME:CET
DTSTART:20251026T010000
END:STANDARD
END:VTIMEZONE
BEGIN:VEVENT
DTSTART;TZID=Europe/Paris:20240521T090000
DTEND;TZID=Europe/Paris:20240521T170000
DTSTAMP:20260422T221301
CREATED:20240411T150918Z
LAST-MODIFIED:20240411T150918Z
UID:3364-1716282000-1716310800@cefcys.fr
SUMMARY:Chemin d'avenir
DESCRIPTION:La deuxième édition de Chemins d’avenir est en préparation. Le programme prévisionnel est le suivant : \n\n9h-9h30           Accueil collégiens\n9h30-10h        Ouverture\n10h-10h30      Introduction par la Ministre Aurore Bergé\n10h30-12h      Jeu de la Fresque de l’équilibre harmonieux\n13h30-14h30  Deux tables rondes : « Jeunes filles\, réécrivons les codes » & « Technologies et métiers du futur »\n14h30-15h30  Rencontre d’étudiantes et d’étudiants dans le domaine du numérique\n15h30-16h00  Conclusion par Audran Le Baron et Florence Biot de la Direction du numérique pour l’éducation
URL:https://cefcys.fr/evenements/chemin-davenir/
CATEGORIES:Interventions
ATTACH;FMTTYPE=image/jpeg:https://cefcys.fr/wp-content/uploads/2024/04/chemin-avenir.jpg
END:VEVENT
BEGIN:VEVENT
DTSTART;TZID=Europe/Paris:20240527T080000
DTEND;TZID=Europe/Paris:20240527T170000
DTSTAMP:20260422T221301
CREATED:20240527T150045Z
LAST-MODIFIED:20240527T150259Z
UID:3444-1716796800-1716829200@cefcys.fr
SUMMARY:Cyberstories n°3 Fadila Leturcq
DESCRIPTION:
URL:https://cefcys.fr/evenements/cyberstories-n3-fadila-leturcq/
ATTACH;FMTTYPE=image/jpeg:https://cefcys.fr/wp-content/uploads/2024/01/podcast-du-cefcys.jpeg
END:VEVENT
BEGIN:VEVENT
DTSTART;TZID=Europe/Paris:20240527T180000
DTEND;TZID=Europe/Paris:20240527T230000
DTSTAMP:20260422T221301
CREATED:20240526T145323Z
LAST-MODIFIED:20240526T145846Z
UID:3427-1716832800-1716850800@cefcys.fr
SUMMARY:IMT Soirée évènementielle pour les 2 ans des Lives autour de sujets industriels
DESCRIPTION:
URL:https://cefcys.fr/evenements/3427/
LOCATION:Hotel de l’Industrie\, 4 place Saint-Germain des Prés\, Paris\, 75006\, France
ATTACH;FMTTYPE=image/jpeg:https://cefcys.fr/wp-content/uploads/2024/05/IMT_rvb-01-1030x728-1.jpg
END:VEVENT
END:VCALENDAR