BEGIN:VCALENDAR
VERSION:2.0
PRODID:-//CEFCYS - ECPv6.15.20//NONSGML v1.0//EN
CALSCALE:GREGORIAN
METHOD:PUBLISH
X-WR-CALNAME:CEFCYS
X-ORIGINAL-URL:https://cefcys.fr
X-WR-CALDESC:Évènements pour CEFCYS
REFRESH-INTERVAL;VALUE=DURATION:PT1H
X-Robots-Tag:noindex
X-PUBLISHED-TTL:PT1H
BEGIN:VTIMEZONE
TZID:Europe/Paris
BEGIN:DAYLIGHT
TZOFFSETFROM:+0100
TZOFFSETTO:+0200
TZNAME:CEST
DTSTART:20230326T010000
END:DAYLIGHT
BEGIN:STANDARD
TZOFFSETFROM:+0200
TZOFFSETTO:+0100
TZNAME:CET
DTSTART:20231029T010000
END:STANDARD
BEGIN:DAYLIGHT
TZOFFSETFROM:+0100
TZOFFSETTO:+0200
TZNAME:CEST
DTSTART:20240331T010000
END:DAYLIGHT
BEGIN:STANDARD
TZOFFSETFROM:+0200
TZOFFSETTO:+0100
TZNAME:CET
DTSTART:20241027T010000
END:STANDARD
BEGIN:DAYLIGHT
TZOFFSETFROM:+0100
TZOFFSETTO:+0200
TZNAME:CEST
DTSTART:20250330T010000
END:DAYLIGHT
BEGIN:STANDARD
TZOFFSETFROM:+0200
TZOFFSETTO:+0100
TZNAME:CET
DTSTART:20251026T010000
END:STANDARD
END:VTIMEZONE
BEGIN:VEVENT
DTSTART;TZID=Europe/Paris:20240606T130000
DTEND;TZID=Europe/Paris:20240606T140000
DTSTAMP:20260422T204108
CREATED:20240526T130359Z
LAST-MODIFIED:20240530T150300Z
UID:3412-1717678800-1717682400@cefcys.fr
SUMMARY:Webinaire ACCENTURE                             IA Générative et Cybersécurité - enjeux\, risques et évolution
DESCRIPTION:
URL:https://cefcys.fr/evenements/webinaire-accenture-ia-generative-et-cybersecurite-enjeux-risques-et-evolution/
LOCATION:En ligne
CATEGORIES:Webinar
ATTACH;FMTTYPE=image/jpeg:https://cefcys.fr/wp-content/uploads/2021/03/CEFCYS-Webinar.jpg
END:VEVENT
BEGIN:VEVENT
DTSTART;TZID=Europe/Paris:20240610T183000
DTEND;TZID=Europe/Paris:20240610T230000
DTSTAMP:20260422T204108
CREATED:20240530T054821Z
LAST-MODIFIED:20240530T140052Z
UID:3485-1718044200-1718060400@cefcys.fr
SUMMARY:Fédération Française de la Cybersécurité (FFC) Soirée d'été
DESCRIPTION:La FEDERATION FRANCAISE DE LA CYBERSECURITE organise sa Soirée d’été qui se déroulera le lundi 10 juin 2024 à partir de 18h30 à la mairie du 15ème arrondissement de Paris. \nCette soirée sera l’occasion parfaite pour discuter des enjeux actuels de la cybersécurité\, assister à des tables rondes animées par des experts du domaine et échanger sur la cyber autour d’un verre. \nNous remercions Smart Global Governance\, Groupe Alsatis et AFNOR Certification pour le sponsoring de cet évènement. \nPour participer à la Soirée d’été\, inscrivez-vous sur le lien suivant : https://lnkd.in/ekd4eirQ. \nNous espérons vous voir nombreux lors de cette soirée estivale !
URL:https://cefcys.fr/evenements/federation-francaise-de-la-cybersecurite-ffc/
LOCATION:Mairie du 15ème arrondissement\, 31 rue Péclet\, Paris\, 75015\, France
CATEGORIES:Interventions
ATTACH;FMTTYPE=image/png:https://cefcys.fr/wp-content/uploads/2024/05/ffc169.png
END:VEVENT
BEGIN:VEVENT
DTSTART;VALUE=DATE:20240612
DTEND;VALUE=DATE:20240614
DTSTAMP:20260422T204108
CREATED:20240526T143423Z
LAST-MODIFIED:20240526T143633Z
UID:3424-1718150400-1718323199@cefcys.fr
SUMMARY:Universités du CRIP
DESCRIPTION:
URL:https://cefcys.fr/evenements/universites-du-crip/
LOCATION:Palais des Congrès\, 2 place de la Porte Maillot\, Paris\, 75017\, France
ATTACH;FMTTYPE=image/png:https://cefcys.fr/wp-content/uploads/2024/05/Capture-decran-2024-05-26-a-16.27.11.png
END:VEVENT
END:VCALENDAR