BEGIN:VCALENDAR
VERSION:2.0
PRODID:-//CEFCYS - ECPv6.15.20//NONSGML v1.0//EN
CALSCALE:GREGORIAN
METHOD:PUBLISH
X-WR-CALNAME:CEFCYS
X-ORIGINAL-URL:https://cefcys.fr
X-WR-CALDESC:Évènements pour CEFCYS
REFRESH-INTERVAL;VALUE=DURATION:PT1H
X-Robots-Tag:noindex
X-PUBLISHED-TTL:PT1H
BEGIN:VTIMEZONE
TZID:Europe/Paris
BEGIN:DAYLIGHT
TZOFFSETFROM:+0100
TZOFFSETTO:+0200
TZNAME:CEST
DTSTART:20230326T010000
END:DAYLIGHT
BEGIN:STANDARD
TZOFFSETFROM:+0200
TZOFFSETTO:+0100
TZNAME:CET
DTSTART:20231029T010000
END:STANDARD
BEGIN:DAYLIGHT
TZOFFSETFROM:+0100
TZOFFSETTO:+0200
TZNAME:CEST
DTSTART:20240331T010000
END:DAYLIGHT
BEGIN:STANDARD
TZOFFSETFROM:+0200
TZOFFSETTO:+0100
TZNAME:CET
DTSTART:20241027T010000
END:STANDARD
BEGIN:DAYLIGHT
TZOFFSETFROM:+0100
TZOFFSETTO:+0200
TZNAME:CEST
DTSTART:20250330T010000
END:DAYLIGHT
BEGIN:STANDARD
TZOFFSETFROM:+0200
TZOFFSETTO:+0100
TZNAME:CET
DTSTART:20251026T010000
END:STANDARD
END:VTIMEZONE
BEGIN:VEVENT
DTSTART;VALUE=DATE:20241001
DTEND;VALUE=DATE:20241101
DTSTAMP:20260422T124320
CREATED:20240904T093051Z
LAST-MODIFIED:20240929T164932Z
UID:3575-1727740800-1730419199@cefcys.fr
SUMMARY:Cybermois 2024
DESCRIPTION:
URL:https://cefcys.fr/evenements/cybermois-2024/
ATTACH;FMTTYPE=image/jpeg:https://cefcys.fr/wp-content/uploads/2023/07/cybermois-logo.jpg
END:VEVENT
BEGIN:VEVENT
DTSTART;VALUE=DATE:20241009
DTEND;VALUE=DATE:20241013
DTSTAMP:20260422T124320
CREATED:20240911T203937Z
LAST-MODIFIED:20240929T170615Z
UID:3593-1728432000-1728777599@cefcys.fr
SUMMARY:Les Assises de la cybersécurité Monaco
DESCRIPTION:
URL:https://cefcys.fr/evenements/les-assises-2/
LOCATION:Grimaldi Forum\, 10 avenue Princesse Grace MC\, 98000\, Monaco
ATTACH;FMTTYPE=image/jpeg:https://cefcys.fr/wp-content/uploads/2023/09/Les-Assises-logo.jpg
END:VEVENT
BEGIN:VEVENT
DTSTART;VALUE=DATE:20241019
DTEND;VALUE=DATE:20241020
DTSTAMP:20260422T124320
CREATED:20240911T205311Z
LAST-MODIFIED:20240911T205321Z
UID:3597-1729296000-1729382399@cefcys.fr
SUMMARY:HackHer Challenge Oteria School
DESCRIPTION:
URL:https://cefcys.fr/evenements/hackher-challenge-oteria-school/
LOCATION:En ligne
ATTACH;FMTTYPE=image/png:https://cefcys.fr/wp-content/uploads/2024/09/hackher.png
END:VEVENT
BEGIN:VEVENT
DTSTART;TZID=Europe/Paris:20241022T083000
DTEND;TZID=Europe/Paris:20241022T180000
DTSTAMP:20260422T124320
CREATED:20240911T201236Z
LAST-MODIFIED:20240911T201439Z
UID:3587-1729585800-1729620000@cefcys.fr
SUMMARY:Identity Days 2024
DESCRIPTION:
URL:https://cefcys.fr/evenements/identity-days-2024/
LOCATION:Newcap Event Center\, 3 Quai de Grenelle\, Paris\, 75015\, France
ATTACH;FMTTYPE=image/png:https://cefcys.fr/wp-content/uploads/2023/10/identity-days.png
END:VEVENT
BEGIN:VEVENT
DTSTART;VALUE=DATE:20241025
DTEND;VALUE=DATE:20241026
DTSTAMP:20260422T124320
CREATED:20240929T165749Z
LAST-MODIFIED:20240929T165749Z
UID:3608-1729814400-1729900799@cefcys.fr
SUMMARY:14ème colloque du CEFCYS
DESCRIPTION:
URL:https://cefcys.fr/evenements/14eme-colloque-du-cefcys/
LOCATION:Sénat\, Paris\, 15 rue de vaugirard\, paris\, 75006\, France
ATTACH;FMTTYPE=image/png:https://cefcys.fr/wp-content/uploads/2021/05/cropped-CEFCYS-logo-web.png
ORGANIZER;CN="Cefcys":MAILTO:contact@cefcys.com
END:VEVENT
BEGIN:VEVENT
DTSTART;VALUE=DATE:20241029
DTEND;VALUE=DATE:20241031
DTSTAMP:20260422T124320
CREATED:20240911T202329Z
LAST-MODIFIED:20241013T132932Z
UID:3590-1730160000-1730332799@cefcys.fr
SUMMARY:FIC Canada
DESCRIPTION:
URL:https://cefcys.fr/evenements/fic-canada-2/
LOCATION:Palais des congrès\, Montréal\, 1001 Pl. Jean-Paul Riopelle\, Montréal\, QC\, H2Z 1H5\, Canada
ATTACH;FMTTYPE=image/jpeg:https://cefcys.fr/wp-content/uploads/2024/09/incyberCanada-1.jpg
END:VEVENT
END:VCALENDAR