BEGIN:VCALENDAR
VERSION:2.0
PRODID:-//CEFCYS - ECPv6.15.20//NONSGML v1.0//EN
CALSCALE:GREGORIAN
METHOD:PUBLISH
X-WR-CALNAME:CEFCYS
X-ORIGINAL-URL:https://cefcys.fr
X-WR-CALDESC:Évènements pour CEFCYS
REFRESH-INTERVAL;VALUE=DURATION:PT1H
X-Robots-Tag:noindex
X-PUBLISHED-TTL:PT1H
BEGIN:VTIMEZONE
TZID:Europe/Paris
BEGIN:DAYLIGHT
TZOFFSETFROM:+0100
TZOFFSETTO:+0200
TZNAME:CEST
DTSTART:20230326T010000
END:DAYLIGHT
BEGIN:STANDARD
TZOFFSETFROM:+0200
TZOFFSETTO:+0100
TZNAME:CET
DTSTART:20231029T010000
END:STANDARD
BEGIN:DAYLIGHT
TZOFFSETFROM:+0100
TZOFFSETTO:+0200
TZNAME:CEST
DTSTART:20240331T010000
END:DAYLIGHT
BEGIN:STANDARD
TZOFFSETFROM:+0200
TZOFFSETTO:+0100
TZNAME:CET
DTSTART:20241027T010000
END:STANDARD
BEGIN:DAYLIGHT
TZOFFSETFROM:+0100
TZOFFSETTO:+0200
TZNAME:CEST
DTSTART:20250330T010000
END:DAYLIGHT
BEGIN:STANDARD
TZOFFSETFROM:+0200
TZOFFSETTO:+0100
TZNAME:CET
DTSTART:20251026T010000
END:STANDARD
END:VTIMEZONE
BEGIN:VEVENT
DTSTART;VALUE=DATE:20241107
DTEND;VALUE=DATE:20241109
DTSTAMP:20260422T092116
CREATED:20241024T164700Z
LAST-MODIFIED:20241024T164740Z
UID:3645-1730937600-1731110399@cefcys.fr
SUMMARY:CSAW 2024
DESCRIPTION:
URL:https://cefcys.fr/evenements/csaw-2024/
CATEGORIES:Actualités
ATTACH;FMTTYPE=image/png:https://cefcys.fr/wp-content/uploads/2024/10/csaw.png
END:VEVENT
BEGIN:VEVENT
DTSTART;VALUE=DATE:20241113
DTEND;VALUE=DATE:20241116
DTSTAMP:20260422T092116
CREATED:20241013T113716Z
LAST-MODIFIED:20241013T130902Z
UID:3619-1731456000-1731715199@cefcys.fr
SUMMARY:Educatech
DESCRIPTION:
URL:https://cefcys.fr/evenements/educatech/
LOCATION:Paris Expo Porte de Versailles\, 1 Place de la Porte de Versailles\, Paris\, 75015\, France
ATTACH;FMTTYPE=image/png:https://cefcys.fr/wp-content/uploads/2024/10/educatech.png
END:VEVENT
BEGIN:VEVENT
DTSTART;TZID=Europe/Paris:20241114T000000
DTEND;TZID=Europe/Paris:20241114T000000
DTSTAMP:20260422T092116
CREATED:20241114T124515Z
LAST-MODIFIED:20241114T124515Z
UID:3692-1731542400-1731542400@cefcys.fr
SUMMARY:APIDAYS Paris
DESCRIPTION:
URL:https://cefcys.fr/evenements/apidays-paris/
ATTACH;FMTTYPE=image/png:https://cefcys.fr/wp-content/uploads/2024/11/Apidays.png
END:VEVENT
BEGIN:VEVENT
DTSTART;VALUE=DATE:20241118
DTEND;VALUE=DATE:20241122
DTSTAMP:20260422T092116
CREATED:20240929T163758Z
LAST-MODIFIED:20240929T164725Z
UID:3603-1731888000-1732233599@cefcys.fr
SUMMARY:European Cyber Week Rennes 2024
DESCRIPTION:
URL:https://cefcys.fr/evenements/european-cyber-week-rennes/
LOCATION:Couvent des Jacobins\, Rennes
CATEGORIES:Actualités
ATTACH;FMTTYPE=image/jpeg:https://cefcys.fr/wp-content/uploads/2022/11/ECW.jpg
END:VEVENT
BEGIN:VEVENT
DTSTART;VALUE=DATE:20241122
DTEND;VALUE=DATE:20241123
DTSTAMP:20260422T092116
CREATED:20241024T163415Z
LAST-MODIFIED:20241024T163551Z
UID:3640-1732233600-1732319999@cefcys.fr
SUMMARY:Cyber Job Dating
DESCRIPTION:
URL:https://cefcys.fr/evenements/cyber-job-dating/
LOCATION:Campus Cyber\, 5 Rue Bellini\, Puteaux\, Hauts-de-Seine\, 92800\, France
CATEGORIES:Job datings
ATTACH;FMTTYPE=image/jpeg:https://cefcys.fr/wp-content/uploads/2024/10/cyberjobdating.jpg
END:VEVENT
BEGIN:VEVENT
DTSTART;VALUE=DATE:20241127
DTEND;VALUE=DATE:20241129
DTSTAMP:20260422T092116
CREATED:20240623T085144Z
LAST-MODIFIED:20240911T205519Z
UID:3536-1732665600-1732838399@cefcys.fr
SUMMARY:Cloud & Cyber Security Expo
DESCRIPTION:
URL:https://cefcys.fr/evenements/cloud-cyber-security-expo/
LOCATION:Paris Expo Porte de Versailles\, 1 Place de la Porte de Versailles\, Paris\, 75015\, France
ATTACH;FMTTYPE=image/png:https://cefcys.fr/wp-content/uploads/2024/06/cloud-cybersecurity-expo.png
END:VEVENT
BEGIN:VEVENT
DTSTART;VALUE=DATE:20241128
DTEND;VALUE=DATE:20241129
DTSTAMP:20260422T092116
CREATED:20240530T142544Z
LAST-MODIFIED:20240530T143547Z
UID:3516-1732752000-1732838399@cefcys.fr
SUMMARY:CBC Toulouse
DESCRIPTION:
URL:https://cefcys.fr/evenements/cbc-toulouse/
LOCATION:MEETT Parc des Expositions\, Concorde Avenue\, Aussonne\, 31840\, France
CATEGORIES:Actualités
ATTACH;FMTTYPE=image/png:https://cefcys.fr/wp-content/uploads/2024/05/CBC169.png
END:VEVENT
BEGIN:VEVENT
DTSTART;VALUE=DATE:20241128
DTEND;VALUE=DATE:20241129
DTSTAMP:20260422T092116
CREATED:20241113T104358Z
LAST-MODIFIED:20241114T112152Z
UID:3673-1732752000-1732838399@cefcys.fr
SUMMARY:Webinaire AMADEUS
DESCRIPTION:
URL:https://cefcys.fr/evenements/webinaire-amadeus/
LOCATION:En ligne
CATEGORIES:Webinar
ATTACH;FMTTYPE=image/jpeg:https://cefcys.fr/wp-content/uploads/2024/11/amadeus-logo.jpg
END:VEVENT
BEGIN:VEVENT
DTSTART;TZID=Europe/Paris:20241128T183000
DTEND;TZID=Europe/Paris:20241128T213000
DTSTAMP:20260422T092116
CREATED:20241114T123520Z
LAST-MODIFIED:20241114T123520Z
UID:3689-1732818600-1732829400@cefcys.fr
SUMMARY:Soirée job dating Sopra Steria
DESCRIPTION:
URL:https://cefcys.fr/evenements/soiree-job-dating-sopra-steria/
LOCATION:Campus Cyber\, 5 Rue Bellini\, Puteaux\, Hauts-de-Seine\, 92800\, France
CATEGORIES:Job datings
ATTACH;FMTTYPE=image/png:https://cefcys.fr/wp-content/uploads/2024/11/SOPRE-STERIA-Logo.png
END:VEVENT
BEGIN:VEVENT
DTSTART;VALUE=DATE:20241129
DTEND;VALUE=DATE:20241130
DTSTAMP:20260422T092116
CREATED:20241024T164139Z
LAST-MODIFIED:20241024T165016Z
UID:3642-1732838400-1732924799@cefcys.fr
SUMMARY:Automne numérique 2024
DESCRIPTION:
URL:https://cefcys.fr/evenements/automne-numerique-2024/
LOCATION:Centralesupelec\, Metz\, 2 rue Edouard Belin\, Metz\, 57070\, France
CATEGORIES:Actualités
ATTACH;FMTTYPE=image/png:https://cefcys.fr/wp-content/uploads/2024/10/automne_numerique.png
END:VEVENT
END:VCALENDAR