BEGIN:VCALENDAR
VERSION:2.0
PRODID:-//CEFCYS - ECPv6.15.20//NONSGML v1.0//EN
CALSCALE:GREGORIAN
METHOD:PUBLISH
X-ORIGINAL-URL:https://cefcys.fr
X-WR-CALDESC:Évènements pour CEFCYS
REFRESH-INTERVAL;VALUE=DURATION:PT1H
X-Robots-Tag:noindex
X-PUBLISHED-TTL:PT1H
BEGIN:VTIMEZONE
TZID:Europe/Paris
BEGIN:DAYLIGHT
TZOFFSETFROM:+0100
TZOFFSETTO:+0200
TZNAME:CEST
DTSTART:20240331T010000
END:DAYLIGHT
BEGIN:STANDARD
TZOFFSETFROM:+0200
TZOFFSETTO:+0100
TZNAME:CET
DTSTART:20241027T010000
END:STANDARD
BEGIN:DAYLIGHT
TZOFFSETFROM:+0100
TZOFFSETTO:+0200
TZNAME:CEST
DTSTART:20250330T010000
END:DAYLIGHT
BEGIN:STANDARD
TZOFFSETFROM:+0200
TZOFFSETTO:+0100
TZNAME:CET
DTSTART:20251026T010000
END:STANDARD
BEGIN:DAYLIGHT
TZOFFSETFROM:+0100
TZOFFSETTO:+0200
TZNAME:CEST
DTSTART:20260329T010000
END:DAYLIGHT
BEGIN:STANDARD
TZOFFSETFROM:+0200
TZOFFSETTO:+0100
TZNAME:CET
DTSTART:20261025T010000
END:STANDARD
END:VTIMEZONE
BEGIN:VEVENT
DTSTART;TZID=Europe/Paris:20250513T080000
DTEND;TZID=Europe/Paris:20250514T170000
DTSTAMP:20260421T211751
CREATED:20250312T232639Z
LAST-MODIFIED:20250312T232639Z
UID:3772-1747123200-1747242000@cefcys.fr
SUMMARY:Salon S3C Montpellier
DESCRIPTION:Le CEFCYS sera présent au salon S3C de Montpellier.\nVenez nous rencontrer et découvrir cet événement de l’écosystème cybersécurité .
URL:https://cefcys.fr/evenements/salon-s3c-montpellier/
ATTACH;FMTTYPE=image/png:https://cefcys.fr/wp-content/uploads/2025/03/Logo-s3c.png
END:VEVENT
BEGIN:VEVENT
DTSTART;TZID=Europe/Paris:20250520T080000
DTEND;TZID=Europe/Paris:20250522T170000
DTSTAMP:20260421T211751
CREATED:20250323T104044Z
LAST-MODIFIED:20250417T153220Z
UID:3797-1747728000-1747933200@cefcys.fr
SUMMARY:Ready For IT Monaco
DESCRIPTION:Le CEFCYS sera présent au salon Ready For IT Monaco. Inscrivez-vous pour venir nous rencontrer et découvrir l’association.
URL:https://cefcys.fr/evenements/ready-for-it-monaco/
ATTACH;FMTTYPE=image/png:https://cefcys.fr/wp-content/uploads/2025/04/ready_for_it_2025.png
END:VEVENT
END:VCALENDAR